BEGIN:VCALENDAR
VERSION:2.0
PRODID:-//wp-events-plugin.com//7.2.3.1//EN
TZID:Europe/Berlin
X-WR-TIMEZONE:Europe/Berlin
BEGIN:VEVENT
UID:2104@loebtop.de
DTSTART;TZID=Europe/Berlin:20260527T180000
DTEND;TZID=Europe/Berlin:20260527T200000
DTSTAMP:20260423T112950Z
URL:https://loebtop.de/veranstaltung/extra-maltreff/
SUMMARY:Extra Maltreff
DESCRIPTION:Es ist ein Nachhole-TERMIN  für den 13.5.....\nBringt einfach 
 Lust am Malen und Gestalten\, Ideen und Wünsche mit\, wenn vorhanden auch
  eigene Utensilien (Papier\, Aquarellfarben\, Pastellkreide o. ä.).\nWir 
 freuen uns auf euch!
ATTACH;FMTTYPE=image/jpeg:https://loebtop.de/wp-content/uploads/2024/10/X-
 pic-veranstaltung-00-BAU-01-malen.jpg
END:VEVENT
BEGIN:VTIMEZONE
TZID:Europe/Berlin
X-LIC-LOCATION:Europe/Berlin
BEGIN:DAYLIGHT
DTSTART:20260329T030000
TZOFFSETFROM:+0100
TZOFFSETTO:+0200
TZNAME:CEST
END:DAYLIGHT
END:VTIMEZONE
END:VCALENDAR