BEGIN:VCALENDAR
VERSION:2.0
PRODID:-//wp-events-plugin.com//7.2.3.1//EN
TZID:Europe/Berlin
X-WR-TIMEZONE:Europe/Berlin
BEGIN:VEVENT
UID:1650@loebtop.de
DTSTART;TZID=Europe/Berlin:20260521T150000
DTEND;TZID=Europe/Berlin:20260521T180000
DTSTAMP:20260423T112949Z
URL:https://loebtop.de/veranstaltung/naeh-treff-naehwerkstatt-32/
SUMMARY:Näh-Treff/ Nähwerkstatt
DESCRIPTION:An unseren drei modernen Nähmaschinen könnt ihr eure Projekte
  verwirklichen. Wir helfen gern dabei. \nZum Nähtreff sind wir ein größ
 eres Team - bei Kaffee/ Tee und Kuchen geht vieles   leichter und auch Ges
 präche sind sehr wichtig... \n\nEs sind auch Kurse für Nähanfänger ode
 r Workshops geplant. Einfach mal vorbeikommen und nach fragen.
ATTACH;FMTTYPE=image/jpeg:https://loebtop.de/wp-content/uploads/2025/08/X-
 pic-veranstaltung-00-BAU-00-naehen.jpg
END:VEVENT
BEGIN:VTIMEZONE
TZID:Europe/Berlin
X-LIC-LOCATION:Europe/Berlin
BEGIN:DAYLIGHT
DTSTART:20260329T030000
TZOFFSETFROM:+0100
TZOFFSETTO:+0200
TZNAME:CEST
END:DAYLIGHT
END:VTIMEZONE
END:VCALENDAR